BEGIN:VCALENDAR
VERSION:2.0
PRODID:-//ChamberMaster//Event Calendar 2.0//EN
METHOD:PUBLISH
X-PUBLISHED-TTL:P3D
REFRESH-INTERVAL:P3D
CALSCALE:GREGORIAN
BEGIN:VEVENT
DTSTART:20140620T000000Z
DTEND:20140620T030000Z
X-MICROSOFT-CDO-ALLDAYEVENT:FALSE
SUMMARY:Young Professionals T-Bones Game
DESCRIPTION:Join us for a fun night of baseball as the T-Bones take on the Sioux City Explorers.\n\n$1 beers all night.\n\nOnly 40 seats available!
X-ALT-DESC;FMTTYPE=text/html:Join us for a fun night of baseball as the T-Bones take on the Sioux City Explorers.<br />\n$1 beers all night.<br />\nOnly 40 seats available!<br />\n&nbsp\;
LOCATION:Community America Stadium
UID:e.211.4191
SEQUENCE:3
DTSTAMP:20260425T011756Z
URL:https://members.nkcbusinesscouncil.com/events/details/young-professionals-t-bones-game-06-19-2014-4191
END:VEVENT

END:VCALENDAR
