BEGIN:VCALENDAR
VERSION:2.0
PRODID:-//ChamberMaster//Event Calendar 2.0//EN
METHOD:PUBLISH
X-PUBLISHED-TTL:P3D
REFRESH-INTERVAL:P3D
CALSCALE:GREGORIAN
BEGIN:VEVENT
DTSTART:20141107T013000Z
DTEND:20141107T040000Z
X-MICROSOFT-CDO-ALLDAYEVENT:FALSE
SUMMARY:Young Frankestein @ North Kansas City High School
DESCRIPTION:The North Kansas City High Schools is presenting the musical "Young Frankenstein".
X-ALT-DESC;FMTTYPE=text/html:The North Kansas City High Schools is presenting the musical &quot\;Young Frankenstein&quot\;. &nbsp\;&nbsp\;&nbsp\;&nbsp\;<br />\n&nbsp\;
LOCATION:North Kansas City High School 620 E 23rd Ave
UID:e.211.4257
SEQUENCE:3
DTSTAMP:20260424T202603Z
URL:https://members.nkcbusinesscouncil.com/events/details/young-frankestein-north-kansas-city-high-school-11-06-2014-4257
END:VEVENT

END:VCALENDAR
