BEGIN:VCALENDAR
VERSION:2.0
PRODID:-//ChamberMaster//Event Calendar 2.0//EN
METHOD:PUBLISH
X-PUBLISHED-TTL:P3D
REFRESH-INTERVAL:P3D
CALSCALE:GREGORIAN
BEGIN:VEVENT
DTSTART:20260410T143000Z
DTEND:20260410T160000Z
X-MICROSOFT-CDO-ALLDAYEVENT:FALSE
SUMMARY:World Cup Information Workshop - April 10\, 2026
DESCRIPTION:World Cup Information Workshop\n\n\n\nAttendees at this workshop will get detailed information about how the World Cup may impact North Kansas City businesses and will offer helpful suggestions on how to be prepared.\n\n\n\nThere is no charge to attend\, but we would like people to register so we can have an estimate of how many people to expect.
X-ALT-DESC;FMTTYPE=text/html:<span style="color:black\;"><span style="font-family:aptos\,sans-serif\;"><span style="font-size:14.0pt\;">World Cup Information Workshop</span></span><br />\n<br />\n<span style="font-size:14.0pt\;">Attendees at this workshop will get detailed information about how the World Cup may impact North Kansas City businesses and will offer helpful suggestions on how to be prepared.</span></span><br />\n<br />\n<span style="color:black\;"><span style="font-size:14.0pt\;">There is no charge to attend\, but we would like people to register so we can have an estimate of how many people to expect.</span></span><br />\n&nbsp\;
LOCATION:320 Armour\, Lower Level.
UID:e.211.6089
SEQUENCE:3
DTSTAMP:20260426T001221Z
URL:https://members.nkcbusinesscouncil.com/events/details/world-cup-information-workshop-april-10-2026-6089
END:VEVENT

END:VCALENDAR
