BEGIN:VCALENDAR
VERSION:2.0
PRODID:-//ChamberMaster//Event Calendar 2.0//EN
METHOD:PUBLISH
X-PUBLISHED-TTL:P3D
REFRESH-INTERVAL:P3D
CALSCALE:GREGORIAN
BEGIN:VEVENT
DTSTART:20160421T163000Z
DTEND:20160421T180500Z
X-MICROSOFT-CDO-ALLDAYEVENT:FALSE
SUMMARY:Women and Heart Health
DESCRIPTION:For women\, the symptoms of heart disease can be different from men's. Dr. Rajya Malay discusses the science behind the symptoms\, the risk factors involved and what you can do to take better care of your heart.  \n\n\n\n\n\nTo register\, visit www.nkch.org or call 816-691-1690
X-ALT-DESC;FMTTYPE=text/html:<span style="font-size: medium\;"><span style="font-family: calibri\;">For women\, the symptoms of heart disease can be different from men&rsquo\;s. Dr. Rajya Malay discusses the science behind the symptoms\, the risk factors involved and what you can do to take better care of your heart.&nbsp\; </span></span><br />\n<br />\n<br />\n<strong>To register\, visit www.nkch.org or call 816-691-1690</strong>
LOCATION:Gladstone Community Center\, 6901 N Holmes St\, Kansas City\, MO 64118
UID:e.211.5042
SEQUENCE:3
DTSTAMP:20260423T180113Z
URL:https://members.nkcbusinesscouncil.com/events/details/women-and-heart-health-04-21-2016-5042
END:VEVENT

END:VCALENDAR
