BEGIN:VCALENDAR
VERSION:2.0
PRODID:-//ChamberMaster//Event Calendar 2.0//EN
METHOD:PUBLISH
X-PUBLISHED-TTL:P3D
REFRESH-INTERVAL:P3D
CALSCALE:GREGORIAN
BEGIN:VEVENT
DTSTART:20150718T190000Z
DTEND:20150718T213000Z
X-MICROSOFT-CDO-ALLDAYEVENT:FALSE
SUMMARY:Wire and Stich Class
DESCRIPTION:Tammy Smith will be teaching a Wire and Stitch Class on Saturday\, July 18 from 2-4:30 for ages 14+. \n\nStitch this example of Tammy's "uncommon art for unconventional minds" - a classic embroidery hoop art with an updated twist.  At this session Tammy will walk you through the process of creating wire feathers that you can then stitch onto your embroidery hoop. All supplies are included.\n\nTammy is an artist and surface designer. She has created products for several companies including Graphique de France\, Studio M-Magnetworks\, Midwest CBK\, Design Design\, Unique Industries\, Red Dirt and Hallmark Cards before deciding to launching her own line of products that you'll also find for sale on her site   also available  at the Handmade and Local Market in Luna Coffeehouse .Tammy shares " I start out by sketching in wire because it allows me to keep a looser hand and avoid trying to make things look too perfect. I wanted to make kits that allow you to add your own creativity\, whether you feel you are "creative" or not."  https://tammysmithdesign.com/
X-ALT-DESC;FMTTYPE=text/html:<span style="font-size: 9.5pt\;"><span style="font-family: arial\,sans-serif\;"><strong>Tammy Smith will be teaching a Wire and Stitch Class on Saturday\,&nbsp\;July 18 from 2-4:30&nbsp\;for ages 14+.&nbsp\;</strong><br />\nStitch this example of Tammy&rsquo\;s &ldquo\;uncommon art for unconventional minds&rdquo\; - a classic embroidery hoop art with an updated twist.&nbsp\; At this session Tammy will walk you through the process of creating wire feathers that you can then stitch onto your embroidery hoop. All supplies are included.</span></span><br />\n<span style="font-size: 9.5pt\;"><span style="font-family: arial\,sans-serif\;">Tammy is an artist and surface designer. She has created products for several companies including Graphique de France\, Studio M-Magnetworks\, Midwest CBK\, Design Design\, Unique Industries\, Red Dirt and Hallmark Cards before deciding to launching her own line of products that you&rsquo\;ll also find for sale on her site &ndash\; also available &nbsp\;at the Handmade and Local Market in Luna Coffeehouse .Tammy shares &ldquo\; I start out by sketching in wire because it allows me to keep a looser hand and avoid trying to make things look too perfect. I wanted to make kits that allow you to add your own creativity\, whether you feel you are &ldquo\;creative&rdquo\; or not.&rdquo\;&nbsp\;&nbsp\;<a href="https://tammysmithdesign.com/" target="_blank"><span style="color: rgb(0\, 0\, 255)\;">https://tammysmithdesign.com/</span></a></span></span><br />\n&nbsp\;
LOCATION:Dare to Dabble 1329 Swift
UID:e.211.4629
SEQUENCE:3
DTSTAMP:20260424T090707Z
URL:https://members.nkcbusinesscouncil.com/events/details/wire-and-stich-class-07-18-2015-4629
END:VEVENT

END:VCALENDAR
