BEGIN:VCALENDAR
VERSION:2.0
PRODID:-//ChamberMaster//Event Calendar 2.0//EN
METHOD:PUBLISH
X-PUBLISHED-TTL:P3D
REFRESH-INTERVAL:P3D
CALSCALE:GREGORIAN
BEGIN:VEVENT
DTSTART:20151106T060000Z
DTEND:20151106T180000Z
X-MICROSOFT-CDO-ALLDAYEVENT:FALSE
SUMMARY:Winter Wonderland Trees - Final Registration Due by Noon
DESCRIPTION:Winter Wonderland Christmas Tree Decorating Contest\n\nFinal Registration Deadline (due by noon)\n\n\n\nMembers: $200\n\nNon-Members: $225\n\n\n\nFor Registration Form and Details \n\ncontact Jennifer Keller\, Administrative Assistant\n\n816-472-7700\n\njennifer@nkcbusinesscouncil.com
X-ALT-DESC;FMTTYPE=text/html:<span style="font-size: 16px\;"><span style="font-family: arial\;"><strong>Winter Wonderland Christmas Tree Decorating Contest<br />\n<span style="background-color: rgb(255\, 255\, 0)\;">Final&nbsp\;Registration Deadline (due by noon)</span></strong><br />\n<br />\nMembers: $200<br />\nNon-Members: $225<br />\n<br />\nFor Registration Form and Details&nbsp\;<br />\ncontact Jennifer Keller\, Administrative Assistant<br />\n816-472-7700<br />\n<a href="mailto:ltate@gmail.com">jennifer@nkcbusinesscouncil.com</a></span></span>
LOCATION:
UID:e.211.4674
SEQUENCE:3
DTSTAMP:20260424T035623Z
URL:https://members.nkcbusinesscouncil.com/events/details/winter-wonderland-trees-final-registration-due-by-noon-11-06-2015-4674
END:VEVENT

END:VCALENDAR
