BEGIN:VCALENDAR
VERSION:2.0
PRODID:-//ChamberMaster//Event Calendar 2.0//EN
METHOD:PUBLISH
X-PUBLISHED-TTL:P3D
REFRESH-INTERVAL:P3D
CALSCALE:GREGORIAN
BEGIN:VEVENT
DTSTART:20121102T050000Z
DTEND:20121102T170000Z
X-MICROSOFT-CDO-ALLDAYEVENT:FALSE
SUMMARY:Winter Wonderland Trees - Final Registration Due by Noon
DESCRIPTION:Winter Wonderland Christmas Tree Decorating Contest\n\nFinal Registration Deadline (due by noon)\n\n\n\nMembers: $200\n\nNon-Members: $225\n\n\n\nFor Registration Form and Details \n\ncontact Jennifer Keller\, Administrative Assistant\n\n816-472-7700\n\njennifer@nkcbusinesscouncil.com
X-ALT-DESC;FMTTYPE=text/html:<span style="font-size: 16px"><span style="font-family: arial"><strong>Winter Wonderland Christmas Tree Decorating Contest<br />\n<span style="background-color: #ffff00">Final&nbsp\;Registration Deadline (due by noon)</span></strong><br />\n<br />\nMembers: $200<br />\nNon-Members: $225<br />\n<br />\nFor Registration Form and Details&nbsp\;<br />\ncontact Jennifer Keller\, Administrative Assistant<br />\n816-472-7700<br />\n<a href="mailto:ltate@gmail.com">jennifer@nkcbusinesscouncil.com</a></span></span>&nbsp\;
LOCATION:
UID:e.211.3013
SEQUENCE:3
DTSTAMP:20260426T035726Z
URL:https://members.nkcbusinesscouncil.com/events/details/winter-wonderland-trees-final-registration-due-by-noon-11-02-2012-3013
END:VEVENT

END:VCALENDAR
