BEGIN:VCALENDAR
VERSION:2.0
PRODID:-//ChamberMaster//Event Calendar 2.0//EN
METHOD:PUBLISH
X-PUBLISHED-TTL:P3D
REFRESH-INTERVAL:P3D
CALSCALE:GREGORIAN
BEGIN:VEVENT
DTSTART:20151023T050000Z
DTEND:20151023T213000Z
X-MICROSOFT-CDO-ALLDAYEVENT:FALSE
SUMMARY:Winter Wonderland Early Bird Registration Deadline - MUST REGISTER BY 4:30pm
DESCRIPTION:Winter Wonderland Christmas Tree Decorating Contest\n\nEarly Bird Registration Deadline\n\n\n\nMembers: $175 ($200 if after Oct. 23)\n\nNon-Members: $200  ($225 if after Oct. 23)\n\n\n\nContact Jennifer Keller\, Administrative Assistant\n\n816-472-7700\n\njennifer@nkcbusinesscouncil.com
X-ALT-DESC;FMTTYPE=text/html:<span style="font-size: 16px\;"><span style="font-family: arial\;"><strong>Winter Wonderland Christmas Tree Decorating Contest<br />\nEarly Bird Registration Deadline</strong><br />\n<br />\nMembers: $175 ($200 if after Oct. 23)<br />\nNon-Members: $200&nbsp\; ($225 if after Oct. 23)<br />\n<br />\nContact Jennifer Keller\, Administrative Assistant<br />\n816-472-7700<br />\n<a href="mailto:ltate@gmail.com">jennifer@nkcbusinesscouncil.com</a></span></span>
LOCATION:
UID:e.211.4673
SEQUENCE:3
DTSTAMP:20260424T050627Z
URL:https://members.nkcbusinesscouncil.com/events/details/winter-wonderland-early-bird-registration-deadline-must-register-by-4-30pm-10-23-2015-4673
END:VEVENT

END:VCALENDAR
