BEGIN:VCALENDAR
VERSION:2.0
PRODID:-//ChamberMaster//Event Calendar 2.0//EN
METHOD:PUBLISH
X-PUBLISHED-TTL:P3D
REFRESH-INTERVAL:P3D
CALSCALE:GREGORIAN
BEGIN:VEVENT
DTSTART:20160521T210000Z
DTEND:20160521T233000Z
X-MICROSOFT-CDO-ALLDAYEVENT:FALSE
SUMMARY:Winemaking Made Easy - Grain to Glass
DESCRIPTION:Share the fun of winemaking with Mom--give her the gift of a class\, and a winemaking kit! Jonathan Matthews is our expert on winemaking\, and he will show you the equipment to get started\, while demonstrating how to make wine from a kit. And\, he'll show you how easy it is to cork bottles on our latest (Carbernet Sauvignon).  Our class is on Saturday\, May 21st\, 4-6:30 PM.  Cost to attend is $20--and you can take home a bottle of wine\, with the purchase of a kit. \nClass is limited to twelve
X-ALT-DESC;FMTTYPE=text/html:<h2 style="margin: 0.1pt 0in 0.05pt\;"><span style="font-size: 10.5pt\; mso-fareast-font-family: &quot\;Times New Roman&quot\;\;"><font color="#404040"><strong>Share the fun of winemaking with Mom--give her the gift of a class\, and a winemaking kit!&nbsp\;Jonathan Matthews is our expert on winemaking\, and he will show you the equipment to get started\, while demonstrating how to make wine from a kit. And\, he&#39\;ll show you how easy it is to cork bottles on our latest (Carbernet Sauvignon).&nbsp\; Our class is on </strong><strong><span style="font-family: &quot\;Arial&quot\;\,&quot\;sans-serif&quot\;\;">Saturday\, May 21st\, 4-6:30 PM</span></strong></font><strong><font color="#404040">.&nbsp\; Cost to attend is $20--and you can take home a bottle of wine\, with the purchase of a kit.&nbsp\;</font></strong></span><span style="mso-fareast-font-family: &quot\;Times New Roman&quot\;\;"><o:p></o:p></span></h2>\n<span style="font-family: &quot\;Times New Roman&quot\;\,&quot\;serif&quot\;\; font-size: 10.5pt\; mso-fareast-font-family: &quot\;Times New Roman&quot\;\; mso-ansi-language: EN-US\; mso-fareast-language: EN-US\; mso-bidi-language: AR-SA\;"><font color="#000000">Class is limited to twelve</font></span>
LOCATION:Grain to Glass 1611 Swift
UID:e.211.5077
SEQUENCE:3
DTSTAMP:20260423T145600Z
URL:https://members.nkcbusinesscouncil.com/events/details/winemaking-made-easy-grain-to-glass-05-21-2016-5077
END:VEVENT

END:VCALENDAR
