BEGIN:VCALENDAR
VERSION:2.0
PRODID:-//ChamberMaster//Event Calendar 2.0//EN
METHOD:PUBLISH
X-PUBLISHED-TTL:P3D
REFRESH-INTERVAL:P3D
CALSCALE:GREGORIAN
BEGIN:VEVENT
DTSTART:20160227T220000Z
DTEND:20160228T000000Z
X-MICROSOFT-CDO-ALLDAYEVENT:FALSE
SUMMARY:Winemaking Made Easy - Grain to Glass
DESCRIPTION:Winemaking is Easy Jonathan Matthews is our expert on winemaking\, and the class he teaches has become increasingly popular. Jonathan will show you the equipment to get started\, while demonstrating how to make wine\, with one of our wine kits. He will show you how easy it is to cork bottles on our latest (Carbernet Sauvignon).  Our January class is on Saturday\, Feb. 27th\, 4-6 PM.  Cost to attend is $15--and you can take home a bottle of our Cab with the purchase of a kit.  Attendance is limited to twelve\; signup online guarantees you a place:
X-ALT-DESC;FMTTYPE=text/html:<span style="font-size: 10.5pt\; font-weight: normal\; mso-fareast-font-family: &quot\;Times New Roman&quot\;\; mso-ansi-language: EN-US\; mso-fareast-language: EN-US\; mso-bidi-language: AR-SA\;"><u><font color="#000000" face="Times New Roman">Winemaking is Easy</font></u></span><span style="font-family: &quot\;Times New Roman&quot\;\,&quot\;serif&quot\;\; font-size: 10.5pt\; mso-fareast-font-family: &quot\;Times New Roman&quot\;\; mso-ansi-language: EN-US\; mso-fareast-language: EN-US\; mso-bidi-language: AR-SA\;"><font color="#000000"> Jonathan Matthews is our expert on winemaking\, and the class he teaches has become increasingly popular. Jonathan&nbsp\;will show you the equipment to get started\, while demonstrating how to make wine\, with one of our wine kits. He&nbsp\;will show you how easy it is to cork bottles on our latest (Carbernet Sauvignon).&nbsp\; Our January class is on <strong><span style="font-weight: normal\;">Saturday\, Feb. 27th\, 4-6 PM</span></strong></font><font color="#000000">.&nbsp\; Cost to attend is $15--and you can take home a bottle of our Cab with the purchase of a kit. &nbsp\;Attendance is limited to twelve\; signup online guarantees you a place: </font></span>
LOCATION:Grain to Glass 1611 Swift
UID:e.211.4828
SEQUENCE:3
DTSTAMP:20260424T001000Z
URL:https://members.nkcbusinesscouncil.com/events/details/winemaking-made-easy-grain-to-glass-02-27-2016-4828
END:VEVENT

END:VCALENDAR
