BEGIN:VCALENDAR
VERSION:2.0
PRODID:-//ChamberMaster//Event Calendar 2.0//EN
METHOD:PUBLISH
X-PUBLISHED-TTL:P3D
REFRESH-INTERVAL:P3D
CALSCALE:GREGORIAN
BEGIN:VEVENT
DTSTART:20260611T220000Z
DTEND:20260612T000000Z
X-MICROSOFT-CDO-ALLDAYEVENT:FALSE
SUMMARY:Vow Ready: Ribbon Cutting
DESCRIPTION:Vow Ready: Ribbon Cutting
X-ALT-DESC;FMTTYPE=text/html:&#10024\;Vow Ready: Ribbon Cutting&#10024\;
LOCATION:1535 Swift
UID:e.211.6097
SEQUENCE:3
DTSTAMP:20260422T070951Z
URL:https://members.nkcbusinesscouncil.com/events/details/vow-ready-ribbon-cutting-6097
END:VEVENT

END:VCALENDAR
