BEGIN:VCALENDAR
VERSION:2.0
PRODID:-//ChamberMaster//Event Calendar 2.0//EN
METHOD:PUBLISH
X-PUBLISHED-TTL:P3D
REFRESH-INTERVAL:P3D
CALSCALE:GREGORIAN
BEGIN:VEVENT
DTSTART:20140826T213000Z
DTEND:20140827T003000Z
X-MICROSOFT-CDO-ALLDAYEVENT:FALSE
SUMMARY:Triple Play Fun Night
DESCRIPTION:A gathering of fun-loving people who have set aside the late afternoon and early evening of Tuesday\, August 26(Check-In at 4 p.m.\, Play from 4:30 to 7:30 p.m.) to team up with fellow employees\, managers and owners from their respective North Kansas City employers. (Businesses with very few employees may include spouses or adult friends on their team.) \n\n \n\nCompeting as teams in three fun\, sporting activities most people are familiar with\, but which don't require significant endurance or strength   bowling\, miniature golf and billiards.
X-ALT-DESC;FMTTYPE=text/html:<span style="language:en-US\;"><span style="font-family:rockwell\;"><span style="font-size:11.5pt\;">A gathering of fun-loving people who have set aside the late afternoon and early evening of Tuesday\, August 26(Check-In at 4 p.m.\, Play from 4:30 to 7:30 p.m.) to team up with fellow employees\, managers and owners from their respective North Kansas City employers. (Businesses with very few employees may include spouses or adult friends on their team.) </span></span></span><br />\n&nbsp\;<br />\n<span style="language:en-US\;"><span style="font-family:rockwell\;"><span style="font-size:11.5pt\;">Competing as teams in three fun\, sporting activities most people are familiar with\, but which don&rsquo\;t require significant endurance or strength &ndash\; bowling\, miniature golf and billiards. </span></span></span><br />\n&nbsp\;<br />\n&nbsp\;
LOCATION:AMF ProBowl Lanes 505 E. 18th Avenue
UID:e.211.4138
SEQUENCE:3
DTSTAMP:20260424T225800Z
URL:https://members.nkcbusinesscouncil.com/events/details/triple-play-fun-night-08-26-2014-4138
END:VEVENT

END:VCALENDAR
