BEGIN:VCALENDAR
VERSION:2.0
PRODID:-//ChamberMaster//Event Calendar 2.0//EN
METHOD:PUBLISH
X-PUBLISHED-TTL:P3D
REFRESH-INTERVAL:P3D
CALSCALE:GREGORIAN
BEGIN:VEVENT
DTSTART:20160426T224500Z
DTEND:20160426T234500Z
X-MICROSOFT-CDO-ALLDAYEVENT:FALSE
SUMMARY:TRAIN WRECK OR SCENIC TOUR?
DESCRIPTION:Is your food plan a chaotic mess or a colorful palette? Learn how your food choices impact your diabetes journey.
X-ALT-DESC;FMTTYPE=text/html:<span style="font-size: medium\;"><span style="font-family: calibri\;">Is your food plan a chaotic mess or a colorful palette? Learn how your food choices impact your diabetes journey.</span></span><br />\n<br />\n&nbsp\;
LOCATION:North Kansas City Hospital\, 1st floor Pavilion\, 2790 Clay Edwards Drive
UID:e.211.5066
SEQUENCE:3
DTSTAMP:20260423T175844Z
URL:https://members.nkcbusinesscouncil.com/events/details/train-wreck-or-scenic-tour-04-26-2016-5066
END:VEVENT

END:VCALENDAR
