BEGIN:VCALENDAR
VERSION:2.0
PRODID:-//ChamberMaster//Event Calendar 2.0//EN
METHOD:PUBLISH
X-PUBLISHED-TTL:P3D
REFRESH-INTERVAL:P3D
CALSCALE:GREGORIAN
BEGIN:VEVENT
DTSTART:20160515T120000Z
DTEND:20160515T170000Z
X-MICROSOFT-CDO-ALLDAYEVENT:FALSE
SUMMARY:Tour de Bier
DESCRIPTION:We welcome bicyclists to stop in again for our third year in the Tour De Bier--which starts at Knuckleheads Saloon (East Bottoms)\, and includes three stops in North Kansas City.  We'll have free samples of Free State's Dirty Kanza Kolsch\, along with our other great beers.  The race starts at 7 AM--and we'll be staffed to serve the hundreds that will be coming through Noon.
X-ALT-DESC;FMTTYPE=text/html:<span style="font-family: &quot\;Times New Roman&quot\;\,&quot\;serif&quot\;\; font-size: 10.5pt\; mso-fareast-font-family: &quot\;Times New Roman&quot\;\; mso-ansi-language: EN-US\; mso-fareast-language: EN-US\; mso-bidi-language: AR-SA\;"><font color="#000000">We welcome bicyclists to stop in again for our third year in the Tour De Bier--which starts at Knuckleheads Saloon (East Bottoms)\, and includes three stops in North Kansas City. &nbsp\;We&#39\;ll have free samples of Free State&#39\;s Dirty Kanza Kolsch\, along with our other great beers. &nbsp\;The race starts at 7 AM--and we&#39\;ll be staffed to serve the hundreds that will be coming through Noon.&nbsp\;&nbsp\;</font></span>
LOCATION:Go to the website for more information and to sign up. http://tourdebierkc.com/
UID:e.211.5073
SEQUENCE:3
DTSTAMP:20260423T145105Z
URL:https://members.nkcbusinesscouncil.com/events/details/tour-de-bier-05-15-2016-5073
END:VEVENT

END:VCALENDAR
