BEGIN:VCALENDAR
VERSION:2.0
PRODID:-//ChamberMaster//Event Calendar 2.0//EN
METHOD:PUBLISH
X-PUBLISHED-TTL:P3D
REFRESH-INTERVAL:P3D
CALSCALE:GREGORIAN
BEGIN:VEVENT
DTSTART:20121104T200000Z
DTEND:20121104T210000Z
X-MICROSOFT-CDO-ALLDAYEVENT:FALSE
SUMMARY:TIme Capsule Reception
DESCRIPTION:The city was officially born on November 4\, 1912\, so it is precisely on November 4\, 2012 that we plan to have a civic ceremony commemorating the city's 100th Birthday! We plan to unearth a time capsule buried in 1987 and follow that with refreshments. A new time capsule will then be buried.
X-ALT-DESC;FMTTYPE=text/html:The city was officially born on November 4\, 1912\, so it is precisely on November 4\, 2012 that we plan to have a civic ceremony commemorating the city&#39\;s 100th Birthday! We plan to unearth a time capsule buried in 1987 and follow that with refreshments. A new time capsule will then be buried.
LOCATION:North Kansas City City Hall 2010 Howell Street
UID:e.211.2329
SEQUENCE:3
DTSTAMP:20260426T035425Z
URL:https://members.nkcbusinesscouncil.com/events/details/time-capsule-reception-11-04-2012-2329
END:VEVENT

END:VCALENDAR
