BEGIN:VCALENDAR
VERSION:2.0
PRODID:-//ChamberMaster//Event Calendar 2.0//EN
METHOD:PUBLISH
X-PUBLISHED-TTL:P3D
REFRESH-INTERVAL:P3D
CALSCALE:GREGORIAN
BEGIN:VEVENT
DTSTART:20160910T150000Z
DTEND:20160911T000000Z
X-MICROSOFT-CDO-ALLDAYEVENT:FALSE
SUMMARY:The Swift Mile
DESCRIPTION:Swift Mile\, North Kansas City's Newest Street Festival\, features a local maker/artist market and performance artist providing entertainment through out the event. We will have food trucks and musicians placed strategically in the market enticing you to venture down Swift. Tour the tucked away hidden gem that is historic downtown North Kansas City with a day of sampling NKC food and drink establishments  ranging from classic neighborhood pubs\, to new craft brew powerhouses that are putting us on the map! Music\, Art\, and local specials to be announced  \n\n\n\nJoin us for a day of sampling North Kansas City's food and drink establishments. 2015's Pint Path included seventeen different entertainment businesses in NKC that offered food and drink specials as well as a commemorative pint glass for those who participated in the organized pick four crawl. 2016's specials and schedule will be announced soon.
X-ALT-DESC;FMTTYPE=text/html:<span style="color: rgb(68\, 68\, 68)\; font-family: Merriweather\, Georgia\, serif\; font-size: 16px\; line-height: 24px\; background-color: rgb(255\, 255\, 255)\;">Swift Mile\, North Kansas City&rsquo\;s Newest Street Festival\, features a local maker/artist market and performance artist providing entertainment through out the event. We will have food trucks and musicians placed strategically in the market enticing you to venture down Swift. Tour the tucked away hidden gem that is historic downtown North Kansas City with a day of sampling NKC food and drink establishments&ndash\; ranging from classic neighborhood pubs\, to new craft&nbsp\;brew powerhouses that are putting us on the map! Music\, Art\, and local specials to be announced&hellip\;&hellip\;<br />\n<br />\nJoin us for a day of sampling North Kansas City&rsquo\;s food and drink establishments. 2015&rsquo\;s&nbsp\;Pint Path included seventeen different entertainment businesses in NKC that offered food and drink&nbsp\;specials as well as a commemorative pint glass for those who participated in the organized pick four crawl. 2016&rsquo\;s specials and schedule will be announced soon.</span>
LOCATION:Art Market - on Swift between 13th & 15th Street Pint Path - at participating restaurants and bars all over North Kansas City.
UID:e.211.5147
SEQUENCE:3
DTSTAMP:20260423T033227Z
URL:https://members.nkcbusinesscouncil.com/events/details/the-swift-mile-09-10-2016-5147
END:VEVENT

END:VCALENDAR
