BEGIN:VCALENDAR
VERSION:2.0
PRODID:-//ChamberMaster//Event Calendar 2.0//EN
METHOD:PUBLISH
X-PUBLISHED-TTL:P3D
REFRESH-INTERVAL:P3D
CALSCALE:GREGORIAN
BEGIN:VEVENT
DTSTART;VALUE=DATE:20160202
DTEND;VALUE=DATE:20160203
TRANSP:TRANSPARENT
X-MICROSOFT-CDO-ALLDAYEVENT:TRUE
SUMMARY:The Gardens at Northgate Phase 4 Groundbreaking
DESCRIPTION:Please Join Us ..\n\n \n\nOn Tuesday\, February 2nd\, 2016 \n\nAt \n\n10:00 am\n\nTo Celebrate the Phase 4 Groundbreaking.\n\n \n\nThe Groundbreaking Ceremony will be held at the Phase 4 construction site. Immediately after the ceremony a brief reception will be held at 3000 Swift Ave\, North Kansas City\, MO 64116
X-ALT-DESC;FMTTYPE=text/html:<span style="font-size: 31pt\;"><span style="color: black\;"><span style="font-family: rockwell\;">Please Join Us&hellip\;..</span></span></span><br />\n&nbsp\;<br />\n<span style="font-size: 28pt\;"><span style="color: black\;"><span style="font-family: rockwell\;">On Tuesday\, February 2<sup>nd</sup>\, 2016 </span></span></span><br />\n<span style="font-size: 28pt\;"><span style="color: black\;"><span style="font-family: rockwell\;">At </span></span></span><br />\n<span style="font-size: 28pt\;"><span style="color: black\;"><span style="font-family: rockwell\;">10:00 am</span></span></span><br />\n<span style="font-size: 28pt\;"><span style="color: black\;"><span style="font-family: rockwell\;">To Celebrate the Phase 4 Groundbreaking.</span></span></span><br />\n&nbsp\;<br />\n<span style="font-size: 28pt\;"><span style="color: black\;"><span style="font-family: rockwell\;">The Groundbreaking Ceremony will be held at the Phase 4 construction site. Immediately after the ceremony a brief reception will be held at 3000 Swift Ave\, North Kansas City\, MO 64116</span></span></span><br />\n&nbsp\;
LOCATION:3000 Swift Ave North Kansas City\, MO 64116
UID:e.211.4827
SEQUENCE:3
DTSTAMP:20260424T001013Z
URL:https://members.nkcbusinesscouncil.com/events/details/the-gardens-at-northgate-phase-4-groundbreaking-02-02-2016-4827
END:VEVENT

END:VCALENDAR
