BEGIN:VCALENDAR
VERSION:2.0
PRODID:-//ChamberMaster//Event Calendar 2.0//EN
METHOD:PUBLISH
X-PUBLISHED-TTL:P3D
REFRESH-INTERVAL:P3D
CALSCALE:GREGORIAN
BEGIN:VEVENT
DTSTART:20160419T224500Z
DTEND:20160419T234500Z
X-MICROSOFT-CDO-ALLDAYEVENT:FALSE
SUMMARY:The Diabetes Train
DESCRIPTION:Get a first-class ticket for your diabetes journey. This class is for people newly diagnosed with prediabetes or diabetes or who need a refresher on why blood sugar control matters.
X-ALT-DESC;FMTTYPE=text/html:<span style="font-size: medium\;"><span style="font-family: calibri\;">Get a first-class ticket for your diabetes journey. This class is for people newly diagnosed with prediabetes or diabetes or who need a refresher on why blood sugar control matters.</span></span><br />\n&nbsp\;
LOCATION:North Kansas City Hospital\, 1st floor Pavilion\, 2790 Clay Edwards Drive
UID:e.211.5064
SEQUENCE:3
DTSTAMP:20260423T205930Z
URL:https://members.nkcbusinesscouncil.com/events/details/the-diabetes-train-04-19-2016-5064
END:VEVENT

END:VCALENDAR
