BEGIN:VCALENDAR
VERSION:2.0
PRODID:-//ChamberMaster//Event Calendar 2.0//EN
METHOD:PUBLISH
X-PUBLISHED-TTL:P3D
REFRESH-INTERVAL:P3D
CALSCALE:GREGORIAN
BEGIN:VEVENT
DTSTART:20161201T233000Z
DTEND:20161202T013000Z
X-MICROSOFT-CDO-ALLDAYEVENT:FALSE
SUMMARY:The Big Event
DESCRIPTION:The North Kansas City \n\nBusiness Council\n\nCordially Invites You to Attend Its Annual Holiday Reception & Auction\n\nFood Tasting Provided by \n\nNorth Kansas City Restaurants\n\nCash Bar Available  \n\nLive and Silent Auctions
X-ALT-DESC;FMTTYPE=text/html:<span style="color: rgb(0\, 100\, 0)\;"><span style="font-family: times new roman\;"><span style="font-weight: bold\; language: en-US\;"><span style="font-size: 24pt\;">The North Kansas City </span></span><br />\n<span style="font-weight: bold\; language: en-US\;"><span style="font-size: 24pt\;">Business Council</span></span></span><br />\n<span style="language: en-US\;"><span style="font-family: bodoni mt\;"><span style="font-size: 14pt\;">Cordially Invites You to Attend Its</span></span></span><span style="language: en-US\;"><span style="font-family: bodoni mt\;"><span style="font-size: 14pt\;">&nbsp\;Annual Holiday Reception &amp\; Auction</span></span></span></span><br />\n<span style="font-weight: bold\; language: en-US\;"><span style="color: black\;"><span style="font-family: palatino\;"><span style="font-size: 14pt\;">Food Tasting Provided by </span></span></span></span><br />\n<span style="font-weight: bold\; language: en-US\;"><span style="color: black\;"><span style="font-family: palatino\;"><span style="font-size: 14pt\;">North Kansas City Restaurants</span></span></span></span><br />\n<span style="font-weight: bold\; language: en-US\;"><span style="font-family: palatino\;"><span style="font-size: 14pt\;">Cash Bar Available&nbsp\; </span></span></span><br />\n<span style="font-weight: bold\; language: en-US\;"><span style="font-family: palatino\;"><span style="font-size: 14pt\;">Live and Silent Auctions</span></span></span><br />\n&nbsp\;<br />\n<br />\n<br />\n&nbsp\;<br />\n&nbsp\;
LOCATION:Black on Burlington 1327 Burlington Suite 700 North Kansas City\, MO
UID:e.211.5149
SEQUENCE:3
DTSTAMP:20260422T113135Z
URL:https://members.nkcbusinesscouncil.com/events/details/the-big-event-5149
END:VEVENT

END:VCALENDAR
