BEGIN:VCALENDAR
VERSION:2.0
PRODID:-//ChamberMaster//Event Calendar 2.0//EN
METHOD:PUBLISH
X-PUBLISHED-TTL:P3D
REFRESH-INTERVAL:P3D
CALSCALE:GREGORIAN
BEGIN:VEVENT
DTSTART:20121206T233000Z
DTEND:20121207T023000Z
X-MICROSOFT-CDO-ALLDAYEVENT:FALSE
SUMMARY:The Big Event
DESCRIPTION:Join us for "100 Years of Holidays" at our 18thAnnual Holiday Reception and Silent Auction!
X-ALT-DESC;FMTTYPE=text/html:<span style="font-size: 16px"><span style="font-family: arial"><strong>Join us for &quot\;100 Years of Holidays&quot\; at our 18<sup>th</sup>Annual Holiday Reception and Silent Auction!</strong></span></span>
LOCATION:Finnigan's Banquet Venue 503 E. 18th Ave. NKC\, MO 64116
UID:e.211.2327
SEQUENCE:3
DTSTAMP:20260426T030655Z
URL:https://members.nkcbusinesscouncil.com/events/details/the-big-event-12-06-2012-2327
END:VEVENT

END:VCALENDAR
