BEGIN:VCALENDAR
VERSION:2.0
PRODID:-//ChamberMaster//Event Calendar 2.0//EN
METHOD:PUBLISH
X-PUBLISHED-TTL:P3D
REFRESH-INTERVAL:P3D
CALSCALE:GREGORIAN
BEGIN:VEVENT
DTSTART:20131205T233000Z
DTEND:20131206T013000Z
X-MICROSOFT-CDO-ALLDAYEVENT:FALSE
SUMMARY:The Big Event
DESCRIPTION:The North Kansas City Business Council\n\n Invites You to Attend Its\n\n19th Annual Holiday Reception & Auction\n\nThursday\, December 5\, 2013\n\nThe Grand Ballroom at Finnigan's Banquet Venue\n\n503 E 18th Ave   North Kansas City\, MO\n\n5:30 p.m. to 7:30 p.m.\n\nReservations are Required\n\nRSVP by November 22\n\n816-472-7700 or jennifer@nkcbusinesscouncil.com\n\n$25 Per Person or $210 for a Reserved Table of Eight\n\nSponsorship Opportunities Are Available
X-ALT-DESC;FMTTYPE=text/html:<span style="font-weight:bold\;language:en-US\;"><span style="color:#a50021\;"><span style="font-family:tiranti solid let\;"><span style="font-size:24.0pt\;">The North Kansas City Business Council</span></span></span></span><br />\n<span style="language:en-US\;"><span style="color:#a50021\;"><span style="font-family:bodoni mt\;"><span style="font-size:14.0pt\;">&nbsp\;Invites You to Attend Its</span></span></span></span><br />\n<span style="language:en-US\;"><span style="color:#a50021\;"><span style="font-family:bodoni mt\;"><span style="font-size:14.0pt\;">19th Annual Holiday Reception &amp\; Auction</span></span></span></span><br />\n<span style="font-weight:bold\;language:en-US\;"><span style="color:#a50021\;"><span style="font-family:bodoni mt\;"><span style="font-size:14.0pt\;">Thursday\, December 5\, 2013</span></span></span></span><br />\n<span style="language:en-US\;"><span style="font-family:bodoni mt\;"><span style="font-size:14.0pt\;">The Grand Ballroom at Finnigan&rsquo\;s Banquet Venue</span></span></span><br />\n<span style="language:en-US\;"><span style="font-family:bodoni mt\;"><span style="font-size:14.0pt\;">503 E 18th Ave &bull\; North Kansas City\, MO</span></span></span><br />\n<span style="font-weight:bold\;language:en-US\;"><span style="color:#a50021\;"><span style="font-family:bodoni mt\;"><span style="font-size:14.0pt\;">5:30 p.m. to 7:30 p.m.</span></span></span></span><br />\n<span style="font-style:italic\;font-weight:bold\;language:en-US\;"><span style="color:#007234\;"><span style="font-family:bodoni mt\;"><span style="font-size:18.0pt\;">Reservations are Required</span></span></span></span><br />\n<span style="language:en-US\;"><span style="color:#007234\;"><span style="font-family:bodoni mt\;"><span style="font-size:16.0pt\;">RSVP by November 22</span></span></span></span><br />\n<span style="language:en-US\;"><span style="font-family:bodoni mt\;"><span style="font-size:12.0pt\;">816-472-7700 or jennifer@nkcbusinesscouncil.com</span></span></span><br />\n<span style="language:en-US\;"><span style="font-family:bodoni mt\;"><span style="font-size:14.0pt\;">$25 Per Person or $210 for a Reserved Table of Eight</span></span></span><br />\n<span style="font-style:italic\;language:en-US\;"><span style="font-family:bodoni mt\;"><span style="font-size:14.0pt\;">Sponsorship Opportunities Are Available</span></span></span><br />\n&nbsp\;
LOCATION:
UID:e.211.3093
SEQUENCE:3
DTSTAMP:20260425T103855Z
URL:https://members.nkcbusinesscouncil.com/events/details/the-big-event-12-05-2013-3093
END:VEVENT

END:VCALENDAR
