BEGIN:VCALENDAR
VERSION:2.0
PRODID:-//ChamberMaster//Event Calendar 2.0//EN
METHOD:PUBLISH
X-PUBLISHED-TTL:P3D
REFRESH-INTERVAL:P3D
CALSCALE:GREGORIAN
BEGIN:VEVENT
DTSTART:20141204T233000Z
DTEND:20141205T013000Z
X-MICROSOFT-CDO-ALLDAYEVENT:FALSE
SUMMARY:The Big Event
DESCRIPTION:The North Kansas City \n\nBusiness Council\n\nCordially Invites You to Attend Its\n\n19th Annual Holiday Reception & Auction\n\nFood Tasting Provided by \n\nNorth Kansas City Restaurants\n\nCash Bar Available  \n\nLive and Silent Auctions
X-ALT-DESC;FMTTYPE=text/html:<span style="font-weight:bold\;language:en-US\;"><span style="color:#007234\;"><span style="font-family:tiranti solid let\;"><span style="font-size:24.0pt\;">The North Kansas City </span></span></span></span><br />\n<span style="font-weight:bold\;language:en-US\;"><span style="color:#007234\;"><span style="font-family:tiranti solid let\;"><span style="font-size:24.0pt\;">Business Council</span></span></span></span><br />\n<span style="language:en-US\;"><span style="color:#007234\;"><span style="font-family:bodoni mt\;"><span style="font-size:14.0pt\;">Cordially Invites You to Attend Its</span></span></span></span><br />\n<span style="language:en-US\;"><span style="color:#007234\;"><span style="font-family:bodoni mt\;"><span style="font-size:14.0pt\;">19th Annual Holiday Reception &amp\; Auction</span></span></span></span><br />\n<span style="font-weight:bold\;language:en-US\;"><span style="color:black\;"><span style="font-family:palatino\;"><span style="font-size:14.0pt\;">Food Tasting Provided by </span></span></span></span><br />\n<span style="font-weight:bold\;language:en-US\;"><span style="color:black\;"><span style="font-family:palatino\;"><span style="font-size:14.0pt\;">North Kansas City Restaurants</span></span></span></span><br />\n<span style="font-weight:bold\;language:en-US\;"><span style="font-family:palatino\;"><span style="font-size:14.0pt\;">Cash Bar Available&nbsp\; </span></span></span><br />\n<span style="font-weight:bold\;language:en-US\;"><span style="font-family:palatino\;"><span style="font-size:14.0pt\;">Live and Silent Auctions</span></span></span><br />\n&nbsp\;<br />\n<br />\n<br />\n&nbsp\;<br />\n&nbsp\;
LOCATION:Black on Burlington 1327 Burlington Suite 700 North Kansas City\, MO
UID:e.211.4137
SEQUENCE:3
DTSTAMP:20260424T175411Z
URL:https://members.nkcbusinesscouncil.com/events/details/the-big-event-12-04-2014-4137
END:VEVENT

END:VCALENDAR
