BEGIN:VCALENDAR
VERSION:2.0
PRODID:-//ChamberMaster//Event Calendar 2.0//EN
METHOD:PUBLISH
X-PUBLISHED-TTL:P3D
REFRESH-INTERVAL:P3D
CALSCALE:GREGORIAN
BEGIN:VEVENT
DTSTART:20151118T003000Z
DTEND:20151118T013000Z
X-MICROSOFT-CDO-ALLDAYEVENT:FALSE
SUMMARY:The 5 Must Have Business Relationships
DESCRIPTION:So\, you want to start a business? Start building the business relationships you are guaranteed to need. Join Mindy Hart and her panel of bankers\, advertisers\, insurers\, lawyers and accountants to discuss how to attract the right team to your business and make sure you have the 5 Must Have Business Relationships. Who's on your list?
X-ALT-DESC;FMTTYPE=text/html:<span style="font-size: 10.5pt\;"><span style="font-family: helvetica\,sans-serif\;">So\, you want to start a business? Start building the business relationships you are guaranteed to need. Join Mindy Hart and her panel of bankers\, advertisers\, insurers\, lawyers and accountants to discuss how to attract the right team to your business and make sure you have the 5 Must Have Business Relationships. Who&rsquo\;s on your list?</span></span><br />\n&nbsp\;
LOCATION:Woodneath Library Center 8900 NE Flintlock Road Kansas City\, Missouri 64157
UID:e.211.4676
SEQUENCE:3
DTSTAMP:20260424T035800Z
URL:https://members.nkcbusinesscouncil.com/events/details/the-5-must-have-business-relationships-11-17-2015-4676
END:VEVENT

END:VCALENDAR
