BEGIN:VCALENDAR
VERSION:2.0
PRODID:-//ChamberMaster//Event Calendar 2.0//EN
METHOD:PUBLISH
X-PUBLISHED-TTL:P3D
REFRESH-INTERVAL:P3D
CALSCALE:GREGORIAN
BEGIN:VEVENT
DTSTART:20160529T170000Z
DTEND:20160529T190000Z
X-MICROSOFT-CDO-ALLDAYEVENT:FALSE
SUMMARY:Sunday Beer Styles
DESCRIPTION:German wheat beers were enjoyed on May 2nd\; due to the Tour de Bier our only other tasting in May will be delayed--but worth the wait!  We'll offer four select sour beers from Jolly Pumpkin\, in their special goblet from Noon-2 PM.  This could be a favorite part of your Memorial Day weekend.  Cost is $20\; bring friends & family!
X-ALT-DESC;FMTTYPE=text/html:<span style="font-family: &quot\;Times New Roman&quot\;\,&quot\;serif&quot\;\; font-size: 10.5pt\; mso-fareast-font-family: &quot\;Times New Roman&quot\;\; mso-ansi-language: EN-US\; mso-fareast-language: EN-US\; mso-bidi-language: AR-SA\;"><font color="#000000">German wheat beers were enjoyed on May 2nd\; due to the Tour de Bier our only other tasting in May will be delayed--but worth the wait! &nbsp\;We&#39\;ll offer four select sour beers from Jolly Pumpkin\, in their special goblet from Noon-2 PM. &nbsp\;This could be a favorite part of your Memorial Day weekend. &nbsp\;Cost is $20\; bring friends &amp\; family!</font></span>
LOCATION:Grain to Glass 1611 Swift
UID:e.211.5075
SEQUENCE:3
DTSTAMP:20260423T145524Z
URL:https://members.nkcbusinesscouncil.com/events/details/sunday-beer-styles-05-29-2016-5075
END:VEVENT

END:VCALENDAR
