BEGIN:VCALENDAR
VERSION:2.0
PRODID:-//ChamberMaster//Event Calendar 2.0//EN
METHOD:PUBLISH
X-PUBLISHED-TTL:P3D
REFRESH-INTERVAL:P3D
CALSCALE:GREGORIAN
BEGIN:VEVENT
DTSTART:20160501T170000Z
DTEND:20160501T190000Z
X-MICROSOFT-CDO-ALLDAYEVENT:FALSE
SUMMARY:Sunday Beer Styles
DESCRIPTION:Come explore and learn about different beer styles\, along with Mackenzie.  We are offering tastings on alternate Sunday afternoons (Noon-2 PM).  Cost is $15\, no reservation needed. This week: German Beers Part 2
X-ALT-DESC;FMTTYPE=text/html:<span style="color: rgb(80\, 80\, 80)\; font-family: &quot\;Arial&quot\;\,&quot\;sans-serif&quot\;\; font-size: 10.5pt\; mso-fareast-font-family: &quot\;Times New Roman&quot\;\; mso-ansi-language: EN-US\; mso-fareast-language: EN-US\; mso-bidi-language: AR-SA\;"><strong>Come explore and learn about different beer styles\, along with Mackenzie. &nbsp\;We are offering tastings on alternate Sunday afternoons (Noon-2 PM). &nbsp\;Cost is $15\, no reservation needed. This week: German Beers Part 2</strong></span>
LOCATION:Grain to Glass 1611 Swift
UID:e.211.4993
SEQUENCE:3
DTSTAMP:20260423T175622Z
URL:https://members.nkcbusinesscouncil.com/events/details/sunday-beer-styles-05-01-2016-4993
END:VEVENT

END:VCALENDAR
