BEGIN:VCALENDAR
VERSION:2.0
PRODID:-//ChamberMaster//Event Calendar 2.0//EN
METHOD:PUBLISH
X-PUBLISHED-TTL:P3D
REFRESH-INTERVAL:P3D
CALSCALE:GREGORIAN
BEGIN:VEVENT
DTSTART:20130824T180000Z
DTEND:20130824T230000Z
X-MICROSOFT-CDO-ALLDAYEVENT:FALSE
SUMMARY:Summer Art Blast Fundraiser and Auction
DESCRIPTION:Click on link to find out more information http://www.northtowneartscoalition.org/
X-ALT-DESC;FMTTYPE=text/html:<div style="color: gray\;">\n	<span style="color:#000000\;">Click on link to find out more information </span><a href="http://www.northtowneartscoalition.org/">http://www.northtowneartscoalition.org/</a></div>\n
LOCATION:
UID:e.211.3546
SEQUENCE:3
DTSTAMP:20260425T163554Z
URL:https://members.nkcbusinesscouncil.com/events/details/summer-art-blast-fundraiser-and-auction-08-24-2013-3546
END:VEVENT

END:VCALENDAR
