BEGIN:VCALENDAR
VERSION:2.0
PRODID:-//ChamberMaster//Event Calendar 2.0//EN
METHOD:PUBLISH
X-PUBLISHED-TTL:P3D
REFRESH-INTERVAL:P3D
CALSCALE:GREGORIAN
BEGIN:VEVENT
DTSTART:20160214T010000Z
DTEND:20160214T030000Z
X-MICROSOFT-CDO-ALLDAYEVENT:FALSE
SUMMARY:Stormy seas Drink and Dabble painting - Dare to Dabble
DESCRIPTION:Come and Dabble in the arts! We will guide you through the steps of creating a 16x20" piece of artwork while enjoying breaks along the way filled with laughter\, and music to make you dance. At the end of the night you will leave with your own masterpiece.
X-ALT-DESC;FMTTYPE=text/html:<span style="font: 14px/22px SQMarket-regular\, &quot\;Helvetica Neue&quot\;\, sans-serif\; text-transform: none\; text-indent: 0px\; letter-spacing: normal\; word-spacing: 0px\; float: none\; display: inline !important\; white-space: normal\; widows: 1\; font-size-adjust: none\; font-stretch: normal\; background-color: rgb(255\, 255\, 255)\; -webkit-text-stroke-color: rgba(0\, 0\, 0\, 0)\; -webkit-text-stroke-width: 1px\;">Come and Dabble in the arts! We will guide you through the steps of creating a 16x20&quot\; piece of artwork while enjoying breaks along the way filled with laughter\, and music to make you dance. At the end of the night you will leave with your own masterpiece.</span>
LOCATION:1329 Swift North Kansas City\, MO 64116
UID:e.211.4846
SEQUENCE:3
DTSTAMP:20260424T002530Z
URL:https://members.nkcbusinesscouncil.com/events/details/stormy-seas-drink-and-dabble-painting-dare-to-dabble-02-13-2016-4846
END:VEVENT

END:VCALENDAR
