BEGIN:VCALENDAR
VERSION:2.0
PRODID:-//ChamberMaster//Event Calendar 2.0//EN
METHOD:PUBLISH
X-PUBLISHED-TTL:P3D
REFRESH-INTERVAL:P3D
CALSCALE:GREGORIAN
BEGIN:VEVENT
DTSTART:20160423T130000Z
DTEND:20160424T040000Z
X-MICROSOFT-CDO-ALLDAYEVENT:FALSE
SUMMARY:Steady Your Stride: Test Your Fall Risk
DESCRIPTION:One-third of people age 65 or older fall each year\, and 1 in 5 falls results in a serious injury such as a head trauma or fracture. The good news is that falls are preventable with just a few simple lifestyle changes. At our Steady Your Stride event\, we'll evaluate your fall-risk and offer easy tips to decrease your chances of taking a tumble.
X-ALT-DESC;FMTTYPE=text/html:<span style="font-size: medium\;"><span style="font-family: calibri\;">One-third of people age 65 or older fall each year\, and 1 in 5 falls results in a serious injury such as a head trauma or fracture. The good news is that falls are preventable with just a few simple lifestyle changes. At our Steady Your Stride event\, we&rsquo\;ll evaluate your fall-risk and offer easy tips to decrease your chances of taking a tumble.</span></span><br />\n&nbsp\;
LOCATION:North Kansas City YMCA\; 1999 Iron Street
UID:e.211.5043
SEQUENCE:3
DTSTAMP:20260423T175301Z
URL:https://members.nkcbusinesscouncil.com/events/details/steady-your-stride-test-your-fall-risk-04-23-2016-5043
END:VEVENT

END:VCALENDAR
