BEGIN:VCALENDAR
VERSION:2.0
PRODID:-//ChamberMaster//Event Calendar 2.0//EN
METHOD:PUBLISH
X-PUBLISHED-TTL:P3D
REFRESH-INTERVAL:P3D
CALSCALE:GREGORIAN
BEGIN:VEVENT
DTSTART:20130413T123000Z
DTEND:20130413T163000Z
X-MICROSOFT-CDO-ALLDAYEVENT:FALSE
SUMMARY:Spring into Health with Women's Health Day
DESCRIPTION:What: North Kansas City Hospital is hosting a fun and educational women's health event on Saturday\, April 13 from 7:30-11:30 a.m. Over a dozen physicians covering specialties from cardiology to infertility will be on hand. Visit with health professionals from over seven specialties. \n	\n		 \n	\n		When: Saturday\, April 13\, 7:30-11:30 a.m.\n	\n		 \n	\n		Where: North Kansas City Hospital\, Health Services Pavilion - 1st Floor\n	\n		2800 Clay Edwards Dr.\, NKC\, MO 64116\n\n		\n\n		Who: Women of all ages. Limited to first 200 women to register. Resister at nkch.org or (816) 691-1688. $15 for SmartSpirit members\, $30 for nonmembers. Health screenings included in price.\n	\n		 \n	\n		Other: Participate in "The Swap." Bring your gently used purses\, scarves\, jewelry\, belts and other accessories and swap them for like-items. \n	\n		 \n	\n		Contacts: Sarah Breshears\, North Kansas City Hospital - (816) 691-5485
X-ALT-DESC;FMTTYPE=text/html:<div style="color: gray\;">\n	<div>\n		<span style="color: rgb(0\, 0\, 0)\;"><span style="font-size: 18px\;"><span style="font-family: times new roman\;"><span>What: North Kansas City Hospital is hosting a fun and educational women&#39\;s health event on Saturday\, April 13 from 7:30-11:30 a.m. Over a dozen physicians covering specialties from cardiology to infertility will be on hand. Visit with health professionals from over seven specialties. </span></span></span></span></div>\n	<p style="margin-top: 0px\; margin-bottom: 0px\;">\n		&nbsp\;</p>\n	<p style="color: rgb(0\, 0\, 0)\; font-size: 12pt\; margin-top: 0px\; margin-bottom: 0px\;">\n		<span><span>When: </span><span>Saturday\, April 13\, 7:30-11:30 a.m.</span></span></p>\n	<p style="color: rgb(0\, 0\, 0)\; font-size: 12pt\; margin-top: 0px\; margin-bottom: 0px\;">\n		&nbsp\;</p>\n	<p style="color: rgb(0\, 0\, 0)\; font-size: 12pt\; margin-top: 0px\; margin-bottom: 0px\;">\n		<span><span>Where: </span><span>North Kansas City Hospital\, Health Services Pavilion - </span><span>1</span><span>st</span><span> Floor</span></span></p>\n	<p style="color: rgb(0\, 0\, 0)\; font-size: 12pt\; margin-top: 0px\; margin-bottom: 0px\;">\n		<span>2800 Clay Edwards Dr.\, NKC\, MO 64116<br />\n		<br />\n		<span>Who: </span><span>Women of all ages. Limited to first 200 women to register. Resister at nkch.org or (816) 691-1688. $15 for SmartSpirit members\, $30 for nonmembers. Health screenings included in price.</span></span></p>\n	<p style="color: rgb(0\, 0\, 0)\; font-size: 12pt\; margin-top: 0px\; margin-bottom: 0px\;">\n		&nbsp\;</p>\n	<p style="color: rgb(0\, 0\, 0)\; font-size: 12pt\; margin-top: 0px\; margin-bottom: 0px\;">\n		<span><span>Other: </span><span>Participate in &quot\;The Swap.&quot\; Bring your gently used purses\, scarves\, jewelry\, belts and other accessories and swap them for like-items. </span></span></p>\n	<p style="color: rgb(0\, 0\, 0)\; font-size: 12pt\; margin-top: 0px\; margin-bottom: 0px\;">\n		&nbsp\;</p>\n	<p style="color: rgb(0\, 0\, 0)\; font-size: 12pt\; margin-top: 0px\; margin-bottom: 0px\;">\n		<span><span>Contacts: </span><span>Sarah Breshears\, North Kansas City Hospital - (816) 691-5485</span></span></p>\n</div>\n
LOCATION:North Kansas City Hospital Pavilion 1st Floor
UID:e.211.3519
SEQUENCE:3
DTSTAMP:20260425T212151Z
URL:https://members.nkcbusinesscouncil.com/events/details/spring-into-health-with-women-s-health-day-04-13-2013-3519
END:VEVENT

END:VCALENDAR
