BEGIN:VCALENDAR
VERSION:2.0
PRODID:-//ChamberMaster//Event Calendar 2.0//EN
METHOD:PUBLISH
X-PUBLISHED-TTL:P3D
REFRESH-INTERVAL:P3D
CALSCALE:GREGORIAN
BEGIN:VEVENT
DTSTART;VALUE=DATE:20150626
DTEND;VALUE=DATE:20150627
TRANSP:TRANSPARENT
X-MICROSOFT-CDO-ALLDAYEVENT:TRUE
SUMMARY:Spiegelau Wheat Glass and Beer Sampler
DESCRIPTION:Spiegelau Wheat Glass! Wheat beers (along with witbiers) are best enjoyed in warm weather! We'd like to see which you like best\, and will offer a sampler on Friday\, June 26th.  We'll offer you the chance to see how your favorite compares in the new Spiegelau Wheat glass--you'll probably want to buy a set!
X-ALT-DESC;FMTTYPE=text/html:<font face="Times New Roman"><span style="color: saddlebrown\; font-size: 10.5pt\; font-weight: normal\; mso-fareast-font-family: &quot\;Times New Roman&quot\;\; mso-ansi-language: EN-US\; mso-fareast-language: EN-US\; mso-bidi-language: AR-SA\;">Spiegelau Wheat Glass!</span><strong><span style="font-size: 10.5pt\; font-weight: normal\; mso-fareast-font-family: &quot\;Times New Roman&quot\;\; mso-ansi-language: EN-US\; mso-fareast-language: EN-US\; mso-bidi-language: AR-SA\;"><font color="#000000">&nbsp\;Wheat beers (along with witbiers)</font></span></strong></font><span style="font-family: &quot\;Times New Roman&quot\;\,&quot\;serif&quot\;\; font-size: 10.5pt\; mso-fareast-font-family: &quot\;Times New Roman&quot\;\; mso-ansi-language: EN-US\; mso-fareast-language: EN-US\; mso-bidi-language: AR-SA\;"><font color="#000000"> are best enjoyed in warm weather! We&#39\;d like to see which you like best\, and will offer a sampler on </font><strong><u><span style="font-weight: normal\;"><font color="#000000">Friday\, June 26th</font></span></u></strong><font color="#000000">. &nbsp\;We&#39\;ll offer you the chance to see how your favorite compares in the new Spiegelau Wheat glass--you&#39\;ll probably want to buy a set!&nbsp\;</font></span>
LOCATION:Grain to Glass 1611 Swift
UID:e.211.4627
SEQUENCE:3
DTSTAMP:20260424T110829Z
URL:https://members.nkcbusinesscouncil.com/events/details/spiegelau-wheat-glass-and-beer-sampler-06-26-2015-4627
END:VEVENT

END:VCALENDAR
