BEGIN:VCALENDAR
VERSION:2.0
PRODID:-//ChamberMaster//Event Calendar 2.0//EN
METHOD:PUBLISH
X-PUBLISHED-TTL:P3D
REFRESH-INTERVAL:P3D
CALSCALE:GREGORIAN
BEGIN:VEVENT
DTSTART;VALUE=DATE:20130316
DTEND;VALUE=DATE:20130317
TRANSP:TRANSPARENT
X-MICROSOFT-CDO-ALLDAYEVENT:TRUE
SUMMARY:Snake Saturday
DESCRIPTION:This year's theme is "Irish Roots and Cowboy Boots"
X-ALT-DESC;FMTTYPE=text/html:This year&#39\;s theme is &quot\;Irish Roots and Cowboy Boots&quot\;
LOCATION:
UID:e.211.1823
SEQUENCE:3
DTSTAMP:20260425T224942Z
URL:https://members.nkcbusinesscouncil.com/events/details/snake-saturday-03-16-2013-1823
END:VEVENT

END:VCALENDAR
