BEGIN:VCALENDAR
VERSION:2.0
PRODID:-//ChamberMaster//Event Calendar 2.0//EN
METHOD:PUBLISH
X-PUBLISHED-TTL:P3D
REFRESH-INTERVAL:P3D
CALSCALE:GREGORIAN
BEGIN:VEVENT
DTSTART:20160421T224500Z
DTEND:20160421T234500Z
X-MICROSOFT-CDO-ALLDAYEVENT:FALSE
SUMMARY:Slow Down! Dangerous Curve Ahead
DESCRIPTION:Bumpy blood sugar control may impact your health. This class will show you how proceeding with caution can smooth your path.
X-ALT-DESC;FMTTYPE=text/html:<span style="font-size: medium\;"><span style="font-family: calibri\;">Bumpy blood sugar control may impact your health. This class will show you how proceeding with caution can smooth your path.</span></span><br />\n<br />\n&nbsp\;
LOCATION:North Kansas City Hospital\, 1st floor Pavilion\, 2790 Clay Edwards Drive
UID:e.211.5065
SEQUENCE:3
DTSTAMP:20260423T205654Z
URL:https://members.nkcbusinesscouncil.com/events/details/slow-down-dangerous-curve-ahead-04-21-2016-5065
END:VEVENT

END:VCALENDAR
