BEGIN:VCALENDAR
VERSION:2.0
PRODID:-//ChamberMaster//Event Calendar 2.0//EN
METHOD:PUBLISH
X-PUBLISHED-TTL:P3D
REFRESH-INTERVAL:P3D
CALSCALE:GREGORIAN
BEGIN:VEVENT
DTSTART:20160521T180000Z
DTEND:20160521T200000Z
X-MICROSOFT-CDO-ALLDAYEVENT:FALSE
SUMMARY:Sip and Stitch
DESCRIPTION:Join us for a social Sip and Stitch in Luna Coffeehouse and Dare to Dabble. We will teach you some basic embroidery stitches and techniques for success. (Designed for beginners\, although open to anyone wanting to pick up a needle again) We provide all the supplies you need to create a fun design: a 7" hoop\, fabric\, embroidery floss\, needles and some fun patterns. Get started on a fantastic gift for mom! Snacks and Drinks are available for purchase at Luna Coffeehouse
X-ALT-DESC;FMTTYPE=text/html:<span style="font-family: arial\,sans-serif\;"><span style="color: black\;"><span style="font-size: medium\;">Join us for a social Sip and Stitch in Luna Coffeehouse and Dare to Dabble. We will teach you some basic embroidery stitches and techniques for success. (Designed for beginners\, although open to anyone wanting to pick up a needle again) We provide all the supplies you need to create a fun design: a 7&quot\; hoop\, fabric\, embroidery floss\, needles and some fun patterns. Get started on a fantastic gift for mom! Snacks and Drinks are available for purchase at Luna Coffeehouse</span></span></span><br />\n&nbsp\;
LOCATION:Dare to Dabble 1329 Swift
UID:e.211.5001
SEQUENCE:3
DTSTAMP:20260423T175418Z
URL:https://members.nkcbusinesscouncil.com/events/details/sip-and-stitch-05-21-2016-5001
END:VEVENT

END:VCALENDAR
