BEGIN:VCALENDAR
VERSION:2.0
PRODID:-//ChamberMaster//Event Calendar 2.0//EN
METHOD:PUBLISH
X-PUBLISHED-TTL:P3D
REFRESH-INTERVAL:P3D
CALSCALE:GREGORIAN
BEGIN:VEVENT
DTSTART:20160520T163000Z
DTEND:20160520T180000Z
X-MICROSOFT-CDO-ALLDAYEVENT:FALSE
SUMMARY:"Simple Diet Changes equal Big Success" Lunch and Learn Seminar Series
DESCRIPTION:North Kansas City YMCA\, 1999 Iron Street in North Kansas City\, MO\, 64116 \n\nYour daily food choices impact your health today and down the road. Simple diet changes can boost your energy level and have you feeling better than ever. Jason Goergen\, DO\, with Meritas Health Park Plaza\, shares his personal weight-loss journey and the tools and techniques he uses and recommends to his patients.\n\n\n\n\n\nRegister at www.nkch.org or call 816-691-1690.
X-ALT-DESC;FMTTYPE=text/html:<span style="font-size: medium\;"><span style="font-family: calibri\;">North Kansas City YMCA\, 1999 Iron Street in North Kansas City\, MO\, 64116 </span></span><br />\n<span style="font-size: medium\;"><span style="font-family: calibri\;">Your daily food choices impact your health today and down the road. Simple diet changes can boost your energy level and have you feeling better than ever. Jason Goergen\, DO\, with Meritas Health Park Plaza\, shares his personal weight-loss journey and the tools and techniques he uses and recommends to his patients.</span></span><br />\n<br />\n<br />\n<strong>Register at www.nkch.org or call 816-691-1690.</strong>
LOCATION:The Center (North Kansas City Community Center) 1999 Iron Street North Kansas City\, MO
UID:e.211.5002
SEQUENCE:3
DTSTAMP:20260423T145613Z
URL:https://members.nkcbusinesscouncil.com/events/details/simple-diet-changes-equal-big-success-lunch-and-learn-seminar-series-05-20-2016-5002
END:VEVENT

END:VCALENDAR
