BEGIN:VCALENDAR
VERSION:2.0
PRODID:-//ChamberMaster//Event Calendar 2.0//EN
METHOD:PUBLISH
X-PUBLISHED-TTL:P3D
REFRESH-INTERVAL:P3D
CALSCALE:GREGORIAN
BEGIN:VEVENT
DTSTART:20150730T223000Z
DTEND:20150731T013000Z
X-MICROSOFT-CDO-ALLDAYEVENT:FALSE
SUMMARY:Silk Screening Class
DESCRIPTION:Patrick Corogenes will teach a Silk Screening class on Thursday\, July 30 from 5:30   8:30 pm for ages 18+. \n\nYou will learn how to silk screen images onto wood. In this class\, you can choose between either a box or caddy to screen print. Both items are locally made\, pre laser cut designed by Romany House. Pre-made screens will be available to choose from these designs\n\nPatrick Corogenes is an independent artist and craftsman who creates silk screen designs on laser cut wood products and more.  You can see samples from his business\; Romany House https://www.etsy.com/shop/RomanyHouse     Romany House items are also available for sale at the Handmade and Local Market in Luna Coffeehouse.
X-ALT-DESC;FMTTYPE=text/html:<span style="font-size: 9.5pt\;"><span style="font-family: arial\,sans-serif\;"><strong>Patrick Corogenes will teach a Silk Screening class on Thursday\,&nbsp\;July 30 from 5:30 &ndash\; 8:30 pm&nbsp\;for ages 18+. </strong><br />\nYou will learn how to silk screen images onto wood. In this class\, you can choose between either a box or caddy to screen print. Both items are locally made\, pre laser cut designed by Romany House. Pre-made screens will be available to choose from these designs</span></span><br />\n<span style="font-size: 9.5pt\;"><span style="font-family: arial\,sans-serif\;">Patrick Corogenes is an independent artist and craftsman who creates silk screen designs on laser cut wood products and more.&nbsp\; You can see samples from his business\; Romany House&nbsp\;</span></span><span style="font-size: 9.5pt\;"><a href="https://www.etsy.com/shop/RomanyHouse" target="_blank"><span style="font-family: arial\,sans-serif\;"><span style="color: rgb(0\, 0\, 255)\;">https://www.etsy.com/shop/RomanyHouse</span></span></a></span><span style="font-size: 9.5pt\;"><span style="font-family: arial\,sans-serif\;">&nbsp\;&nbsp\; &nbsp\; Romany House items are also available for sale at the Handmade and Local Market in Luna Coffeehouse.</span></span><br />\n&nbsp\;
LOCATION:Dare to Dabble 1329 Swift
UID:e.211.4630
SEQUENCE:3
DTSTAMP:20260424T082859Z
URL:https://members.nkcbusinesscouncil.com/events/details/silk-screening-class-07-30-2015-4630
END:VEVENT

END:VCALENDAR
