BEGIN:VCALENDAR
VERSION:2.0
PRODID:-//ChamberMaster//Event Calendar 2.0//EN
METHOD:PUBLISH
X-PUBLISHED-TTL:P3D
REFRESH-INTERVAL:P3D
CALSCALE:GREGORIAN
BEGIN:VEVENT
DTSTART:20130426T130000Z
DTEND:20130426T170000Z
X-MICROSOFT-CDO-ALLDAYEVENT:FALSE
SUMMARY:Senior Health Day
DESCRIPTION:A Day of Health   Just For Seniors \n\n	 \n\n	 \n\n	What:   Senior Health Day sponsored by North Kansas City Hospital and hosted by North Kansas City Community Center.\n\n	               \n\n	Who:    Everyone over 50 is invited. Free consultations. Fasting lipid profile blood test is available for $15.\n\n	 \n\n	When:   Friday April 26\, 2013.  The event is 8:00 a.m.   noon.\n\n	       \n\n	Why:    Meet with medical experts from cardiology\, vision\, dental\, women's imaging\, urology\, fitness/exercise\, diabetes/dietician\, hearing and foot care and discuss health topics. Consultants for AARP will also be available to answer questions.\n\n	 \n\n	Where:  This event is presented by the Community Health & Wellness Department of North Kansas City Hospital and will be held at the North Kansas City Community Center 1999 Iron Street\, North Kansas City\, Mo 64116.\n\n	 \n\n	Registration:   Required for those wanting fasting lipid profile (HDL\, LDL\, Triglycerides) and is available for only $15.00. Registration and pre-payment is required these tests. Please call 816-691-1688 to register.  \n\n	 \n\n	Contacts:Sarah Breshears\, North Kansas City Hospital:\n\n	(816) 691-5485
X-ALT-DESC;FMTTYPE=text/html:<div style="color: gray\;">\n	<span style="color: rgb(0\, 0\, 0)\;"><span style="font-size: 14px\;"><span style="font-family: times new roman\;"><strong><em>A Day of Health &ndash\; Just For Seniors&nbsp\;</em></strong></span><br />\n	&nbsp\;<br />\n	&nbsp\;<br />\n	<strong><span style="font-family: times new roman\;">What:&nbsp\;&nbsp\; </span></strong><span style="font-family: calibri\,sans-serif\;">Senior Health Day sponsored by North Kansas City Hospital and hosted by North Kansas City Community Center.</span><br />\n	&nbsp\;&nbsp\;&nbsp\;&nbsp\;&nbsp\;&nbsp\;&nbsp\;&nbsp\;&nbsp\;&nbsp\;&nbsp\;&nbsp\;&nbsp\;&nbsp\;&nbsp\;<br />\n	<span style="font-family: times new roman\;"><strong>Who:&nbsp\;&nbsp\;&nbsp\; </strong></span>Everyone over 50 is invited. Free consultations. Fasting lipid profile blood test is available for $15.<br />\n	&nbsp\;<br />\n	<strong><span style="font-family: times new roman\;">When:&nbsp\;&nbsp\; </span></strong><span style="font-family: calibri\,sans-serif\;">Friday April 26\, 2013.&nbsp\; The event is 8:00 a.m. &ndash\; noon.</span><br />\n	&nbsp\;&nbsp\;&nbsp\;&nbsp\;&nbsp\;&nbsp\;&nbsp\;<br />\n	<strong><span style="font-family: times new roman\;">Why:&nbsp\;&nbsp\;&nbsp\; </span></strong><span style="font-family: calibri\,sans-serif\;">Meet with medical experts from cardiology\, vision\, dental\, women&rsquo\;s imaging\, urology\, fitness/exercise\, diabetes/dietician\, hearing and foot care and discuss health topics. Consultants for AARP will also be available to answer questions.</span><br />\n	&nbsp\;<br />\n	<strong><span style="font-family: times new roman\;">Where:&nbsp\; </span></strong><span style="font-family: calibri\,sans-serif\;">This event is presented by the Community Health &amp\; Wellness Department of North Kansas City Hospital and will be held at the North Kansas City Community Center 1999 Iron Street\, North Kansas City\, Mo 64116.</span><br />\n	&nbsp\;<br />\n	<span style="font-family: times new roman\;"><strong>Registration</strong></span>:&nbsp\;&nbsp\; Required f<span style="font-family: calibri\,sans-serif\;">or those wanting fasting lipid profile (HDL\, LDL\, Triglycerides) and is available for only $15.00. Registration and pre-payment is required these tests. Please call 816-691-1688 to register.&nbsp\; </span><br />\n	&nbsp\;<br />\n	<span style="font-family: times new roman\;"><strong>Contacts:</strong></span>Sarah Breshears\, North Kansas City Hospital:<br />\n	(816) 691-5485</span></span><br />\n	&nbsp\;</div>\n
LOCATION:North Kansas City Community Center 1999 Iron Street
UID:e.211.3521
SEQUENCE:3
DTSTAMP:20260425T225113Z
URL:https://members.nkcbusinesscouncil.com/events/details/senior-health-day-04-26-2013-3521
END:VEVENT

END:VCALENDAR
