BEGIN:VCALENDAR
VERSION:2.0
PRODID:-//ChamberMaster//Event Calendar 2.0//EN
METHOD:PUBLISH
X-PUBLISHED-TTL:P3D
REFRESH-INTERVAL:P3D
CALSCALE:GREGORIAN
BEGIN:VEVENT
DTSTART;VALUE=DATE:20160205
DTEND;VALUE=DATE:20160208
TRANSP:TRANSPARENT
X-MICROSOFT-CDO-ALLDAYEVENT:TRUE
SUMMARY:Screenland Armour Panic Fest
DESCRIPTION:SCREENLAND ARMOUR & TALLGRASS BREWING COMPANY PRESENTS A DOWNRIGHTCREEPY.COM EVENT
X-ALT-DESC;FMTTYPE=text/html:<span style="font: 14px/22.4px &quot\;Noto Sans&quot\;\, sans-serif\; color: rgb(119\, 119\, 119)\; text-transform: none\; text-indent: 0px\; letter-spacing: normal\; word-spacing: 0px\; float: none\; display: inline !important\; white-space: normal\; widows: 1\; font-size-adjust: none\; font-stretch: normal\; background-color: rgb(255\, 255\, 255)\; -webkit-text-stroke-width: 0px\;">SCREENLAND ARMOUR &amp\; TALLGRASS BREWING COMPANY PRESENTS A </span><a href="http://l.facebook.com/l.php?u=http%3A%2F%2FDOWNRIGHTCREEPY.COM%2F&amp\;h=dAQGqgRK4&amp\;enc=AZNf4r63K0M4ky6zejbaX6JNeu8quGTGkLsXLmqyVYQtyBCl27mtkJMTb6iqhFkYYL0&amp\;s=1" rel="nofollow nofollow" style="font: 14px/22.4px &quot\;Noto Sans&quot\;\, sans-serif\; outline: 0px\; color: rgb(255\, 115\, 86)\; text-transform: none\; text-indent: 0px\; letter-spacing: normal\; text-decoration: none\; word-spacing: 0px\; white-space: normal\; widows: 1\; font-size-adjust: none\; font-stretch: normal\; transition-property: color\, background-color\, opacity\, border\; transition-duration: 125ms\; transition-timing-function: ease-in-out\; background-color: rgb(255\, 255\, 255)\; -webkit-text-stroke-width: 0px\;" target="_blank">DOWNRIGHTCREEPY.COM</a><span style="font: 14px/22.4px &quot\;Noto Sans&quot\;\, sans-serif\; color: rgb(119\, 119\, 119)\; text-transform: none\; text-indent: 0px\; letter-spacing: normal\; word-spacing: 0px\; float: none\; display: inline !important\; white-space: normal\; widows: 1\; font-size-adjust: none\; font-stretch: normal\; background-color: rgb(255\, 255\, 255)\; -webkit-text-stroke-width: 0px\;"> EVENT</span>
LOCATION:Screenland Armour Theatre 408 Armour Road North Kansas City\, MO 64116
UID:e.211.4710
SEQUENCE:3
DTSTAMP:20260424T001007Z
URL:https://members.nkcbusinesscouncil.com/events/details/screenland-armour-panic-fest-02-05-2016-4710
END:VEVENT

END:VCALENDAR
