BEGIN:VCALENDAR
VERSION:2.0
PRODID:-//ChamberMaster//Event Calendar 2.0//EN
METHOD:PUBLISH
X-PUBLISHED-TTL:P3D
REFRESH-INTERVAL:P3D
CALSCALE:GREGORIAN
BEGIN:VEVENT
DTSTART:20160210T010000Z
DTEND:20160210T030000Z
X-MICROSOFT-CDO-ALLDAYEVENT:FALSE
SUMMARY:Run Free - Screenland Armour
DESCRIPTION:Run Free is a movie about Micah True (Caballo Blanco\, or the White Horse)\, an American ultra runner who helped the Tarahumara Indians of Mexico preserve their traditional running culture by creating a 50-mile ultra marathon which combines aspects of traditional Tarahumara running with the ideology of modern ultra running. Micah True and the Copper Canyon Ultra Marathon were subjects in the best-selling book 'Born to Run'
X-ALT-DESC;FMTTYPE=text/html:<span style="font: 14px/22.4px &quot\;Noto Sans&quot\;\, sans-serif\; text-transform: none\; text-indent: 0px\; letter-spacing: normal\; word-spacing: 0px\; float: none\; display: inline !important\; white-space: normal\; widows: 1\; font-size-adjust: none\; font-stretch: normal\; background-color: rgb(255\, 255\, 255)\; -webkit-text-stroke-width: 0px\;">Run Free is a movie about Micah True (Caballo Blanco\, or the White Horse)\, an American ultra runner who helped the Tarahumara Indians of Mexico preserve their traditional running culture by creating a 50-mile ultra marathon which combines aspects of traditional Tarahumara running with the ideology of modern ultra running. Micah True and the Copper Canyon Ultra Marathon were subjects in the best-selling book &lsquo\;Born to Run&#39\;</span>
LOCATION:Screenland Armour 408 Armour
UID:e.211.4924
SEQUENCE:3
DTSTAMP:20260424T001014Z
URL:https://members.nkcbusinesscouncil.com/events/details/run-free-screenland-armour-02-09-2016-4924
END:VEVENT

END:VCALENDAR
