BEGIN:VCALENDAR
VERSION:2.0
PRODID:-//ChamberMaster//Event Calendar 2.0//EN
METHOD:PUBLISH
X-PUBLISHED-TTL:P3D
REFRESH-INTERVAL:P3D
CALSCALE:GREGORIAN
BEGIN:VEVENT
DTSTART:20160422T230000Z
DTEND:20160423T030000Z
X-MICROSOFT-CDO-ALLDAYEVENT:FALSE
SUMMARY:Royals Friday Nights
DESCRIPTION:We had some great times watching the Royals from Opening Day through the World Series last year!  We'll continue with Friday night watches on April 8th (vs. Minnesota Twins) and April 22nd (vs. Baltimore Orioles).  We'll have the volume up\, so you can hear the game. Carry-in food is welcome!
X-ALT-DESC;FMTTYPE=text/html:<strong><span style="font-size: 10.5pt\;"><span style="font-family: arial\,sans-serif\;"><span style="color: rgb(80\, 80\, 80)\;">We had some great times watching the Royals from Opening Day through the World Series last year! &nbsp\;We&#39\;ll continue with Friday night watches on April 8th (vs. Minnesota Twins) and April 22nd (vs. Baltimore Orioles). &nbsp\;We&#39\;ll have the volume up\, so you can hear the game. </span></span></span></strong><em><strong><u><span style="font-size: 10.5pt\;"><span style="font-family: arial\,sans-serif\;"><span style="color: rgb(80\, 80\, 80)\;">Carry-in food is welcome!</span></span></span></u></strong></em><br />\n&nbsp\;
LOCATION:Grain to Glass 1611 Swift
UID:e.211.4995
SEQUENCE:3
DTSTAMP:20260423T205933Z
URL:https://members.nkcbusinesscouncil.com/events/details/royals-friday-nights-04-22-2016-4995
END:VEVENT

END:VCALENDAR
