BEGIN:VCALENDAR
VERSION:2.0
PRODID:-//ChamberMaster//Event Calendar 2.0//EN
METHOD:PUBLISH
X-PUBLISHED-TTL:P3D
REFRESH-INTERVAL:P3D
CALSCALE:GREGORIAN
BEGIN:VEVENT
DTSTART:20121108T223000Z
DTEND:20121109T000000Z
X-MICROSOFT-CDO-ALLDAYEVENT:FALSE
SUMMARY:Ribbon Cutting for T-Mobile
DESCRIPTION:We will be celebrating the opening of the new T-Mobile Store at 304 Armour Road.\n\nPlease join us to welcome them to the neighborhood.
X-ALT-DESC;FMTTYPE=text/html:We will be celebrating the opening of the new T-Mobile Store&nbsp\;at 304 Armour Road.<br />\nPlease join us to welcome them to the neighborhood.
LOCATION:304 Armour Road North Kansas City\, MO64116
UID:e.211.3014
SEQUENCE:3
DTSTAMP:20260426T035603Z
URL:https://members.nkcbusinesscouncil.com/events/details/ribbon-cutting-for-t-mobile-11-08-2012-3014
END:VEVENT

END:VCALENDAR
