BEGIN:VCALENDAR
VERSION:2.0
PRODID:-//ChamberMaster//Event Calendar 2.0//EN
METHOD:PUBLISH
X-PUBLISHED-TTL:P3D
REFRESH-INTERVAL:P3D
CALSCALE:GREGORIAN
BEGIN:VEVENT
DTSTART:20130104T140000Z
DTEND:20130104T153000Z
X-MICROSOFT-CDO-ALLDAYEVENT:FALSE
SUMMARY:Ribbon Cutting for Smokin Guns
DESCRIPTION:Join us in celebrating Smokin' Guns BBQ and their new restaurant. Take a tour and see all they have to offer in their new facility.
X-ALT-DESC;FMTTYPE=text/html:Join us in celebrating Smokin&#39\; Guns BBQ and their new restaurant. Take a tour and see all they have to offer in their new facility.
LOCATION:1218 Swift
UID:e.211.3513
SEQUENCE:3
DTSTAMP:20260426T013827Z
URL:https://members.nkcbusinesscouncil.com/events/details/ribbon-cutting-for-smokin-guns-01-04-2013-3513
END:VEVENT

END:VCALENDAR
