BEGIN:VCALENDAR
VERSION:2.0
PRODID:-//ChamberMaster//Event Calendar 2.0//EN
METHOD:PUBLISH
X-PUBLISHED-TTL:P3D
REFRESH-INTERVAL:P3D
CALSCALE:GREGORIAN
BEGIN:VEVENT
DTSTART:20130107T223000Z
DTEND:20130108T000000Z
X-MICROSOFT-CDO-ALLDAYEVENT:FALSE
SUMMARY:Ribbon Cutting for Ofe's Corner Shops
DESCRIPTION:Join us at the new area of shops called Ofe's Corner and see all that she has to offer in her newly remodeled building.
X-ALT-DESC;FMTTYPE=text/html:Join us at the new area of shops called Ofe&#39\;s Corner and see all that she has to offer in her newly remodeled building.
LOCATION:2101 Swift
UID:e.211.3094
SEQUENCE:3
DTSTAMP:20260426T024326Z
URL:https://members.nkcbusinesscouncil.com/events/details/ribbon-cutting-for-ofe-s-corner-shops-01-07-2013-3094
END:VEVENT

END:VCALENDAR
