BEGIN:VCALENDAR
VERSION:2.0
PRODID:-//ChamberMaster//Event Calendar 2.0//EN
METHOD:PUBLISH
X-PUBLISHED-TTL:P3D
REFRESH-INTERVAL:P3D
CALSCALE:GREGORIAN
BEGIN:VEVENT
DTSTART:20160608T223000Z
DTEND:20160609T020000Z
X-MICROSOFT-CDO-ALLDAYEVENT:FALSE
SUMMARY:RENEWAL: BLS FOR HEALTHCARE PROVIDERS
DESCRIPTION:This class is designed specifically for healthcare providers or students seeking renewal.\n\nPrevious certification must not be expired.
X-ALT-DESC;FMTTYPE=text/html:<span style="font-size: medium\;"><span style="font-family: calibri\;">This class is designed specifically for healthcare providers or students seeking renewal.<br />\nPrevious certification must not be expired.</span></span><br />\n<br />\n&nbsp\;
LOCATION:North Kansas City Hospital\, 1st floor Pavilion\, 2790 Clay Edwards Drive
UID:e.211.5131
SEQUENCE:3
DTSTAMP:20260423T112859Z
URL:https://members.nkcbusinesscouncil.com/events/details/renewal-bls-for-healthcare-providers-06-08-2016-5131
END:VEVENT

END:VCALENDAR
