BEGIN:VCALENDAR
VERSION:2.0
PRODID:-//ChamberMaster//Event Calendar 2.0//EN
METHOD:PUBLISH
X-PUBLISHED-TTL:P3D
REFRESH-INTERVAL:P3D
CALSCALE:GREGORIAN
BEGIN:VEVENT
DTSTART:20160715T163000Z
DTEND:20160715T180000Z
X-MICROSOFT-CDO-ALLDAYEVENT:FALSE
SUMMARY:Put Your Best Foot Forward Lunch and Learn Seminar Series
DESCRIPTION:Feet come in all shapes and sizes and so do their related problems. Join John S. Bleazard\, DO\, to learn what's normal and what's not when it comes to foot pain. He also discusses nonoperative options and surgical solutions that can help treat painful feet.\n\n\n\n\n\nRegister at www.nkch.org or call 816-691-1690.
X-ALT-DESC;FMTTYPE=text/html:<span style="font-family: &quot\;Calibri&quot\;\,&quot\;sans-serif&quot\;\; font-size: 12pt\; mso-ascii-theme-font: minor-latin\; mso-fareast-font-family: &quot\;Times New Roman&quot\;\; mso-hansi-theme-font: minor-latin\; mso-bidi-font-family: &quot\;Times New Roman&quot\;\; mso-ansi-language: EN-US\; mso-fareast-language: EN-US\; mso-bidi-language: AR-SA\;"><font color="#000000">Feet come in all shapes and sizes and so do their related problems. Join John S. Bleazard\, DO\, to learn what&rsquo\;s normal and what&rsquo\;s not when it comes to foot pain. He also discusses nonoperative options and surgical solutions that can help treat painful feet.</font></span><br />\n<br />\n<br />\n<strong>Register at www.nkch.org or call 816-691-1690.</strong>
LOCATION:The Center (North Kansas City Community Center) 1999 Iron Street North Kansas City\, MO
UID:e.211.5132
SEQUENCE:3
DTSTAMP:20260423T112337Z
URL:https://members.nkcbusinesscouncil.com/events/details/put-your-best-foot-forward-lunch-and-learn-seminar-series-07-15-2016-5132
END:VEVENT

END:VCALENDAR
