BEGIN:VCALENDAR
VERSION:2.0
PRODID:-//ChamberMaster//Event Calendar 2.0//EN
METHOD:PUBLISH
X-PUBLISHED-TTL:P3D
REFRESH-INTERVAL:P3D
CALSCALE:GREGORIAN
BEGIN:VEVENT
DTSTART:20151111T210000Z
DTEND:20151111T220000Z
X-MICROSOFT-CDO-ALLDAYEVENT:FALSE
SUMMARY:Program Committee Meeting
DESCRIPTION:Dream up and help implement interesting group activities for North Kansas City Business Council members.
X-ALT-DESC;FMTTYPE=text/html:<span style="font-family: calibri\,sans-serif\;"><span style="font-size: 12pt\;">Dream up and help implement interesting group activities for North Kansas City Business Council members.</span></span>
LOCATION:North Kansas City Business Council offices 320 Armour Road\, Suite 220
UID:e.211.3587
SEQUENCE:3
DTSTAMP:20260424T034201Z
URL:https://members.nkcbusinesscouncil.com/events/details/program-committee-meeting-11-11-2015-3587
END:VEVENT

END:VCALENDAR
