BEGIN:VCALENDAR
VERSION:2.0
PRODID:-//ChamberMaster//Event Calendar 2.0//EN
METHOD:PUBLISH
X-PUBLISHED-TTL:P3D
REFRESH-INTERVAL:P3D
CALSCALE:GREGORIAN
BEGIN:VEVENT
DTSTART:20121107T210000Z
DTEND:20121107T220000Z
X-MICROSOFT-CDO-ALLDAYEVENT:FALSE
SUMMARY:Program Committee Meeting
DESCRIPTION:
X-ALT-DESC;FMTTYPE=text/html:
LOCATION:NKC Business Council Offices
UID:e.211.3015
SEQUENCE:3
DTSTAMP:20260426T035431Z
URL:https://members.nkcbusinesscouncil.com/events/details/program-committee-meeting-11-07-2012-3015
END:VEVENT

END:VCALENDAR
