BEGIN:VCALENDAR
VERSION:2.0
PRODID:-//ChamberMaster//Event Calendar 2.0//EN
METHOD:PUBLISH
X-PUBLISHED-TTL:P3D
REFRESH-INTERVAL:P3D
CALSCALE:GREGORIAN
BEGIN:VEVENT
DTSTART:20131009T200000Z
DTEND:20131009T210000Z
X-MICROSOFT-CDO-ALLDAYEVENT:FALSE
SUMMARY:Program Committee
DESCRIPTION:
X-ALT-DESC;FMTTYPE=text/html:
LOCATION:North Kansas City Business Council office 320 Armour Road
UID:e.211.3042
SEQUENCE:3
DTSTAMP:20260425T134815Z
URL:https://members.nkcbusinesscouncil.com/events/details/program-committee-10-09-2013-3042
END:VEVENT

END:VCALENDAR
