BEGIN:VCALENDAR
VERSION:2.0
PRODID:-//ChamberMaster//Event Calendar 2.0//EN
METHOD:PUBLISH
X-PUBLISHED-TTL:P3D
REFRESH-INTERVAL:P3D
CALSCALE:GREGORIAN
BEGIN:VEVENT
DTSTART:20130911T200000Z
DTEND:20130911T210000Z
X-MICROSOFT-CDO-ALLDAYEVENT:FALSE
SUMMARY:Program Committee
DESCRIPTION:
X-ALT-DESC;FMTTYPE=text/html:
LOCATION:North Kansas City Business Council office 406 Armour Road
UID:e.211.3041
SEQUENCE:3
DTSTAMP:20260425T150859Z
URL:https://members.nkcbusinesscouncil.com/events/details/program-committee-09-11-2013-3041
END:VEVENT

END:VCALENDAR
