BEGIN:VCALENDAR
VERSION:2.0
PRODID:-//ChamberMaster//Event Calendar 2.0//EN
METHOD:PUBLISH
X-PUBLISHED-TTL:P3D
REFRESH-INTERVAL:P3D
CALSCALE:GREGORIAN
BEGIN:VEVENT
DTSTART:20130508T200000Z
DTEND:20130508T210000Z
X-MICROSOFT-CDO-ALLDAYEVENT:FALSE
SUMMARY:Program Committee
DESCRIPTION:
X-ALT-DESC;FMTTYPE=text/html:
LOCATION:North Kansas City Business Council office 406 Armour Road
UID:e.211.3037
SEQUENCE:3
DTSTAMP:20260425T194231Z
URL:https://members.nkcbusinesscouncil.com/events/details/program-committee-05-08-2013-3037
END:VEVENT

END:VCALENDAR
