BEGIN:VCALENDAR
VERSION:2.0
PRODID:-//ChamberMaster//Event Calendar 2.0//EN
METHOD:PUBLISH
X-PUBLISHED-TTL:P3D
REFRESH-INTERVAL:P3D
CALSCALE:GREGORIAN
BEGIN:VEVENT
DTSTART:20160213T031500Z
DTEND:20160213T051500Z
X-MICROSOFT-CDO-ALLDAYEVENT:FALSE
SUMMARY:Princess Bride - Screenland Armour
DESCRIPTION:SCREENLAND ARMOUR The Princess Bride returns specially for Valentine's Day weekend. We will offer specialty food and drinks during each screening. SHOWTIMES: (SPECIAL ENGAGEMENT. NO PASSES)
X-ALT-DESC;FMTTYPE=text/html:<span style="font: 14px/22.4px &quot\;Noto Sans&quot\;\, sans-serif\; text-align: center\; text-transform: none\; text-indent: 0px\; letter-spacing: normal\; word-spacing: 0px\; float: none\; display: inline !important\; white-space: normal\; widows: 1\; font-size-adjust: none\; font-stretch: normal\; background-color: rgb(255\, 255\, 255)\; -webkit-text-stroke-width: 0px\;">SCREENLAND ARMOUR The Princess Bride returns specially for Valentine&rsquo\;s Day weekend. We will offer specialty food and drinks during each screening. SHOWTIMES:&nbsp\;(SPECIAL ENGAGEMENT. NO PASSES) </span>
LOCATION:Screenland Armour Theatre 408 Armour Road
UID:e.211.4920
SEQUENCE:3
DTSTAMP:20260424T001014Z
URL:https://members.nkcbusinesscouncil.com/events/details/princess-bride-screenland-armour-02-12-2016-4920
END:VEVENT

END:VCALENDAR
